Workbook
Name UpsModels: 'Verified Model & Cartridge Ref'!$A$2:$A$44

Sheet Fleet Expiration Tracker
A1: CellFit UPS: Fleet Battery Expiration Tracker
A2: Fill in the yellow columns: pick your UPS from the dropdown and enter its install date. The rest fills itself in.
A3: 36 months is a planning interval, not an OEM figure. Heat and frequent outages shorten it. LiFePO4 ceilings assume a 12 A BMS and 82% inverter efficiency. Specs verified 2026-11-02; see https://cellfitups.com/data/.
A5: Asset / Location | B5: UPS Model | C5: Serial Number | D5: Install Date | E5: OEM Cartridge SKU | F5: Bare Cell Count & Spec | G5: Max DC Amps | H5: LiFePO4 Ceiling at 12 A BMS (W) | I5: 36-Month Replacement Due | J5: Status | K5: Order | L5: Model Page | M5: Serial Split
E6: =IF($B6="","",IFERROR(INDEX('Verified Model & Cartridge Ref'!$C$2:$C$44,MATCH($B6,'Verified Model & Cartridge Ref'!$A$2:$A$44,0)),"Pick a listed model")) | F6: =IF($B6="","",IFERROR(INDEX('Verified Model & Cartridge Ref'!$D$2:$D$44,MATCH($B6,'Verified Model & Cartridge Ref'!$A$2:$A$44,0)),"Pick a listed model")) | G6: =IF($B6="","",IFERROR(INDEX('Verified Model & Cartridge Ref'!$E$2:$E$44,MATCH($B6,'Verified Model & Cartridge Ref'!$A$2:$A$44,0)),"Pick a listed model")) | H6: =IF($B6="","",IFERROR(INDEX('Verified Model & Cartridge Ref'!$F$2:$F$44,MATCH($B6,'Verified Model & Cartridge Ref'!$A$2:$A$44,0)),"Pick a listed model")) | I6: =IF($D6="","",EDATE($D6,36)) | J6: =IF($I6="","",IF($I6<TODAY(),"OVERDUE",IF($I6-TODAY()<=90,"Due within 90 days","OK"))) | K6: =IF($B6="","",IFERROR(HYPERLINK(INDEX('Verified Model & Cartridge Ref'!$J$2:$J$44,MATCH($B6,'Verified Model & Cartridge Ref'!$A$2:$A$44,0))&"#buy",INDEX('Verified Model & Cartridge Ref'!$K$2:$K$44,MATCH($B6,'Verified Model & Cartridge Ref'!$A$2:$A$44,0))),"Pick a listed model")) | L6: =IF($B6="","",IFERROR(HYPERLINK(INDEX('Verified Model & Cartridge Ref'!$J$2:$J$44,MATCH($B6,'Verified Model & Cartridge Ref'!$A$2:$A$44,0)),"Open CellFit Page"),"Pick a listed model")) | M6: =IF($B6="","",IFERROR(INDEX('Verified Model & Cartridge Ref'!$I$2:$I$44,MATCH($B6,'Verified Model & Cartridge Ref'!$A$2:$A$44,0)),"Pick a listed model"))
E7: =IF($B7="","",IFERROR(INDEX('Verified Model & Cartridge Ref'!$C$2:$C$44,MATCH($B7,'Verified Model & Cartridge Ref'!$A$2:$A$44,0)),"Pick a listed model")) | F7: =IF($B7="","",IFERROR(INDEX('Verified Model & Cartridge Ref'!$D$2:$D$44,MATCH($B7,'Verified Model & Cartridge Ref'!$A$2:$A$44,0)),"Pick a listed model")) | G7: =IF($B7="","",IFERROR(INDEX('Verified Model & Cartridge Ref'!$E$2:$E$44,MATCH($B7,'Verified Model & Cartridge Ref'!$A$2:$A$44,0)),"Pick a listed model")) | H7: =IF($B7="","",IFERROR(INDEX('Verified Model & Cartridge Ref'!$F$2:$F$44,MATCH($B7,'Verified Model & Cartridge Ref'!$A$2:$A$44,0)),"Pick a listed model")) | I7: =IF($D7="","",EDATE($D7,36)) | J7: =IF($I7="","",IF($I7<TODAY(),"OVERDUE",IF($I7-TODAY()<=90,"Due within 90 days","OK"))) | K7: =IF($B7="","",IFERROR(HYPERLINK(INDEX('Verified Model & Cartridge Ref'!$J$2:$J$44,MATCH($B7,'Verified Model & Cartridge Ref'!$A$2:$A$44,0))&"#buy",INDEX('Verified Model & Cartridge Ref'!$K$2:$K$44,MATCH($B7,'Verified Model & Cartridge Ref'!$A$2:$A$44,0))),"Pick a listed model")) | L7: =IF($B7="","",IFERROR(HYPERLINK(INDEX('Verified Model & Cartridge Ref'!$J$2:$J$44,MATCH($B7,'Verified Model & Cartridge Ref'!$A$2:$A$44,0)),"Open CellFit Page"),"Pick a listed model")) | M7: =IF($B7="","",IFERROR(INDEX('Verified Model & Cartridge Ref'!$I$2:$I$44,MATCH($B7,'Verified Model & Cartridge Ref'!$A$2:$A$44,0)),"Pick a listed model"))
E8: =IF($B8="","",IFERROR(INDEX('Verified Model & Cartridge Ref'!$C$2:$C$44,MATCH($B8,'Verified Model & Cartridge Ref'!$A$2:$A$44,0)),"Pick a listed model")) | F8: =IF($B8="","",IFERROR(INDEX('Verified Model & Cartridge Ref'!$D$2:$D$44,MATCH($B8,'Verified Model & Cartridge Ref'!$A$2:$A$44,0)),"Pick a listed model")) | G8: =IF($B8="","",IFERROR(INDEX('Verified Model & Cartridge Ref'!$E$2:$E$44,MATCH($B8,'Verified Model & Cartridge Ref'!$A$2:$A$44,0)),"Pick a listed model")) | H8: =IF($B8="","",IFERROR(INDEX('Verified Model & Cartridge Ref'!$F$2:$F$44,MATCH($B8,'Verified Model & Cartridge Ref'!$A$2:$A$44,0)),"Pick a listed model")) | I8: =IF($D8="","",EDATE($D8,36)) | J8: =IF($I8="","",IF($I8<TODAY(),"OVERDUE",IF($I8-TODAY()<=90,"Due within 90 days","OK"))) | K8: =IF($B8="","",IFERROR(HYPERLINK(INDEX('Verified Model & Cartridge Ref'!$J$2:$J$44,MATCH($B8,'Verified Model & Cartridge Ref'!$A$2:$A$44,0))&"#buy",INDEX('Verified Model & Cartridge Ref'!$K$2:$K$44,MATCH($B8,'Verified Model & Cartridge Ref'!$A$2:$A$44,0))),"Pick a listed model")) | L8: =IF($B8="","",IFERROR(HYPERLINK(INDEX('Verified Model & Cartridge Ref'!$J$2:$J$44,MATCH($B8,'Verified Model & Cartridge Ref'!$A$2:$A$44,0)),"Open CellFit Page"),"Pick a listed model")) | M8: =IF($B8="","",IFERROR(INDEX('Verified Model & Cartridge Ref'!$I$2:$I$44,MATCH($B8,'Verified Model & Cartridge Ref'!$A$2:$A$44,0)),"Pick a listed model"))
E9: =IF($B9="","",IFERROR(INDEX('Verified Model & Cartridge Ref'!$C$2:$C$44,MATCH($B9,'Verified Model & Cartridge Ref'!$A$2:$A$44,0)),"Pick a listed model")) | F9: =IF($B9="","",IFERROR(INDEX('Verified Model & Cartridge Ref'!$D$2:$D$44,MATCH($B9,'Verified Model & Cartridge Ref'!$A$2:$A$44,0)),"Pick a listed model")) | G9: =IF($B9="","",IFERROR(INDEX('Verified Model & Cartridge Ref'!$E$2:$E$44,MATCH($B9,'Verified Model & Cartridge Ref'!$A$2:$A$44,0)),"Pick a listed model")) | H9: =IF($B9="","",IFERROR(INDEX('Verified Model & Cartridge Ref'!$F$2:$F$44,MATCH($B9,'Verified Model & Cartridge Ref'!$A$2:$A$44,0)),"Pick a listed model")) | I9: =IF($D9="","",EDATE($D9,36)) | J9: =IF($I9="","",IF($I9<TODAY(),"OVERDUE",IF($I9-TODAY()<=90,"Due within 90 days","OK"))) | K9: =IF($B9="","",IFERROR(HYPERLINK(INDEX('Verified Model & Cartridge Ref'!$J$2:$J$44,MATCH($B9,'Verified Model & Cartridge Ref'!$A$2:$A$44,0))&"#buy",INDEX('Verified Model & Cartridge Ref'!$K$2:$K$44,MATCH($B9,'Verified Model & Cartridge Ref'!$A$2:$A$44,0))),"Pick a listed model")) | L9: =IF($B9="","",IFERROR(HYPERLINK(INDEX('Verified Model & Cartridge Ref'!$J$2:$J$44,MATCH($B9,'Verified Model & Cartridge Ref'!$A$2:$A$44,0)),"Open CellFit Page"),"Pick a listed model")) | M9: =IF($B9="","",IFERROR(INDEX('Verified Model & Cartridge Ref'!$I$2:$I$44,MATCH($B9,'Verified Model & Cartridge Ref'!$A$2:$A$44,0)),"Pick a listed model"))
E10: =IF($B10="","",IFERROR(INDEX('Verified Model & Cartridge Ref'!$C$2:$C$44,MATCH($B10,'Verified Model & Cartridge Ref'!$A$2:$A$44,0)),"Pick a listed model")) | F10: =IF($B10="","",IFERROR(INDEX('Verified Model & Cartridge Ref'!$D$2:$D$44,MATCH($B10,'Verified Model & Cartridge Ref'!$A$2:$A$44,0)),"Pick a listed model")) | G10: =IF($B10="","",IFERROR(INDEX('Verified Model & Cartridge Ref'!$E$2:$E$44,MATCH($B10,'Verified Model & Cartridge Ref'!$A$2:$A$44,0)),"Pick a listed model")) | H10: =IF($B10="","",IFERROR(INDEX('Verified Model & Cartridge Ref'!$F$2:$F$44,MATCH($B10,'Verified Model & Cartridge Ref'!$A$2:$A$44,0)),"Pick a listed model")) | I10: =IF($D10="","",EDATE($D10,36)) | J10: =IF($I10="","",IF($I10<TODAY(),"OVERDUE",IF($I10-TODAY()<=90,"Due within 90 days","OK"))) | K10: =IF($B10="","",IFERROR(HYPERLINK(INDEX('Verified Model & Cartridge Ref'!$J$2:$J$44,MATCH($B10,'Verified Model & Cartridge Ref'!$A$2:$A$44,0))&"#buy",INDEX('Verified Model & Cartridge Ref'!$K$2:$K$44,MATCH($B10,'Verified Model & Cartridge Ref'!$A$2:$A$44,0))),"Pick a listed model")) | L10: =IF($B10="","",IFERROR(HYPERLINK(INDEX('Verified Model & Cartridge Ref'!$J$2:$J$44,MATCH($B10,'Verified Model & Cartridge Ref'!$A$2:$A$44,0)),"Open CellFit Page"),"Pick a listed model")) | M10: =IF($B10="","",IFERROR(INDEX('Verified Model & Cartridge Ref'!$I$2:$I$44,MATCH($B10,'Verified Model & Cartridge Ref'!$A$2:$A$44,0)),"Pick a listed model"))
E11: =IF($B11="","",IFERROR(INDEX('Verified Model & Cartridge Ref'!$C$2:$C$44,MATCH($B11,'Verified Model & Cartridge Ref'!$A$2:$A$44,0)),"Pick a listed model")) | F11: =IF($B11="","",IFERROR(INDEX('Verified Model & Cartridge Ref'!$D$2:$D$44,MATCH($B11,'Verified Model & Cartridge Ref'!$A$2:$A$44,0)),"Pick a listed model")) | G11: =IF($B11="","",IFERROR(INDEX('Verified Model & Cartridge Ref'!$E$2:$E$44,MATCH($B11,'Verified Model & Cartridge Ref'!$A$2:$A$44,0)),"Pick a listed model")) | H11: =IF($B11="","",IFERROR(INDEX('Verified Model & Cartridge Ref'!$F$2:$F$44,MATCH($B11,'Verified Model & Cartridge Ref'!$A$2:$A$44,0)),"Pick a listed model")) | I11: =IF($D11="","",EDATE($D11,36)) | J11: =IF($I11="","",IF($I11<TODAY(),"OVERDUE",IF($I11-TODAY()<=90,"Due within 90 days","OK"))) | K11: =IF($B11="","",IFERROR(HYPERLINK(INDEX('Verified Model & Cartridge Ref'!$J$2:$J$44,MATCH($B11,'Verified Model & Cartridge Ref'!$A$2:$A$44,0))&"#buy",INDEX('Verified Model & Cartridge Ref'!$K$2:$K$44,MATCH($B11,'Verified Model & Cartridge Ref'!$A$2:$A$44,0))),"Pick a listed model")) | L11: =IF($B11="","",IFERROR(HYPERLINK(INDEX('Verified Model & Cartridge Ref'!$J$2:$J$44,MATCH($B11,'Verified Model & Cartridge Ref'!$A$2:$A$44,0)),"Open CellFit Page"),"Pick a listed model")) | M11: =IF($B11="","",IFERROR(INDEX('Verified Model & Cartridge Ref'!$I$2:$I$44,MATCH($B11,'Verified Model & Cartridge Ref'!$A$2:$A$44,0)),"Pick a listed model"))
E12: =IF($B12="","",IFERROR(INDEX('Verified Model & Cartridge Ref'!$C$2:$C$44,MATCH($B12,'Verified Model & Cartridge Ref'!$A$2:$A$44,0)),"Pick a listed model")) | F12: =IF($B12="","",IFERROR(INDEX('Verified Model & Cartridge Ref'!$D$2:$D$44,MATCH($B12,'Verified Model & Cartridge Ref'!$A$2:$A$44,0)),"Pick a listed model")) | G12: =IF($B12="","",IFERROR(INDEX('Verified Model & Cartridge Ref'!$E$2:$E$44,MATCH($B12,'Verified Model & Cartridge Ref'!$A$2:$A$44,0)),"Pick a listed model")) | H12: =IF($B12="","",IFERROR(INDEX('Verified Model & Cartridge Ref'!$F$2:$F$44,MATCH($B12,'Verified Model & Cartridge Ref'!$A$2:$A$44,0)),"Pick a listed model")) | I12: =IF($D12="","",EDATE($D12,36)) | J12: =IF($I12="","",IF($I12<TODAY(),"OVERDUE",IF($I12-TODAY()<=90,"Due within 90 days","OK"))) | K12: =IF($B12="","",IFERROR(HYPERLINK(INDEX('Verified Model & Cartridge Ref'!$J$2:$J$44,MATCH($B12,'Verified Model & Cartridge Ref'!$A$2:$A$44,0))&"#buy",INDEX('Verified Model & Cartridge Ref'!$K$2:$K$44,MATCH($B12,'Verified Model & Cartridge Ref'!$A$2:$A$44,0))),"Pick a listed model")) | L12: =IF($B12="","",IFERROR(HYPERLINK(INDEX('Verified Model & Cartridge Ref'!$J$2:$J$44,MATCH($B12,'Verified Model & Cartridge Ref'!$A$2:$A$44,0)),"Open CellFit Page"),"Pick a listed model")) | M12: =IF($B12="","",IFERROR(INDEX('Verified Model & Cartridge Ref'!$I$2:$I$44,MATCH($B12,'Verified Model & Cartridge Ref'!$A$2:$A$44,0)),"Pick a listed model"))
E13: =IF($B13="","",IFERROR(INDEX('Verified Model & Cartridge Ref'!$C$2:$C$44,MATCH($B13,'Verified Model & Cartridge Ref'!$A$2:$A$44,0)),"Pick a listed model")) | F13: =IF($B13="","",IFERROR(INDEX('Verified Model & Cartridge Ref'!$D$2:$D$44,MATCH($B13,'Verified Model & Cartridge Ref'!$A$2:$A$44,0)),"Pick a listed model")) | G13: =IF($B13="","",IFERROR(INDEX('Verified Model & Cartridge Ref'!$E$2:$E$44,MATCH($B13,'Verified Model & Cartridge Ref'!$A$2:$A$44,0)),"Pick a listed model")) | H13: =IF($B13="","",IFERROR(INDEX('Verified Model & Cartridge Ref'!$F$2:$F$44,MATCH($B13,'Verified Model & Cartridge Ref'!$A$2:$A$44,0)),"Pick a listed model")) | I13: =IF($D13="","",EDATE($D13,36)) | J13: =IF($I13="","",IF($I13<TODAY(),"OVERDUE",IF($I13-TODAY()<=90,"Due within 90 days","OK"))) | K13: =IF($B13="","",IFERROR(HYPERLINK(INDEX('Verified Model & Cartridge Ref'!$J$2:$J$44,MATCH($B13,'Verified Model & Cartridge Ref'!$A$2:$A$44,0))&"#buy",INDEX('Verified Model & Cartridge Ref'!$K$2:$K$44,MATCH($B13,'Verified Model & Cartridge Ref'!$A$2:$A$44,0))),"Pick a listed model")) | L13: =IF($B13="","",IFERROR(HYPERLINK(INDEX('Verified Model & Cartridge Ref'!$J$2:$J$44,MATCH($B13,'Verified Model & Cartridge Ref'!$A$2:$A$44,0)),"Open CellFit Page"),"Pick a listed model")) | M13: =IF($B13="","",IFERROR(INDEX('Verified Model & Cartridge Ref'!$I$2:$I$44,MATCH($B13,'Verified Model & Cartridge Ref'!$A$2:$A$44,0)),"Pick a listed model"))
E14: =IF($B14="","",IFERROR(INDEX('Verified Model & Cartridge Ref'!$C$2:$C$44,MATCH($B14,'Verified Model & Cartridge Ref'!$A$2:$A$44,0)),"Pick a listed model")) | F14: =IF($B14="","",IFERROR(INDEX('Verified Model & Cartridge Ref'!$D$2:$D$44,MATCH($B14,'Verified Model & Cartridge Ref'!$A$2:$A$44,0)),"Pick a listed model")) | G14: =IF($B14="","",IFERROR(INDEX('Verified Model & Cartridge Ref'!$E$2:$E$44,MATCH($B14,'Verified Model & Cartridge Ref'!$A$2:$A$44,0)),"Pick a listed model")) | H14: =IF($B14="","",IFERROR(INDEX('Verified Model & Cartridge Ref'!$F$2:$F$44,MATCH($B14,'Verified Model & Cartridge Ref'!$A$2:$A$44,0)),"Pick a listed model")) | I14: =IF($D14="","",EDATE($D14,36)) | J14: =IF($I14="","",IF($I14<TODAY(),"OVERDUE",IF($I14-TODAY()<=90,"Due within 90 days","OK"))) | K14: =IF($B14="","",IFERROR(HYPERLINK(INDEX('Verified Model & Cartridge Ref'!$J$2:$J$44,MATCH($B14,'Verified Model & Cartridge Ref'!$A$2:$A$44,0))&"#buy",INDEX('Verified Model & Cartridge Ref'!$K$2:$K$44,MATCH($B14,'Verified Model & Cartridge Ref'!$A$2:$A$44,0))),"Pick a listed model")) | L14: =IF($B14="","",IFERROR(HYPERLINK(INDEX('Verified Model & Cartridge Ref'!$J$2:$J$44,MATCH($B14,'Verified Model & Cartridge Ref'!$A$2:$A$44,0)),"Open CellFit Page"),"Pick a listed model")) | M14: =IF($B14="","",IFERROR(INDEX('Verified Model & Cartridge Ref'!$I$2:$I$44,MATCH($B14,'Verified Model & Cartridge Ref'!$A$2:$A$44,0)),"Pick a listed model"))
E15: =IF($B15="","",IFERROR(INDEX('Verified Model & Cartridge Ref'!$C$2:$C$44,MATCH($B15,'Verified Model & Cartridge Ref'!$A$2:$A$44,0)),"Pick a listed model")) | F15: =IF($B15="","",IFERROR(INDEX('Verified Model & Cartridge Ref'!$D$2:$D$44,MATCH($B15,'Verified Model & Cartridge Ref'!$A$2:$A$44,0)),"Pick a listed model")) | G15: =IF($B15="","",IFERROR(INDEX('Verified Model & Cartridge Ref'!$E$2:$E$44,MATCH($B15,'Verified Model & Cartridge Ref'!$A$2:$A$44,0)),"Pick a listed model")) | H15: =IF($B15="","",IFERROR(INDEX('Verified Model & Cartridge Ref'!$F$2:$F$44,MATCH($B15,'Verified Model & Cartridge Ref'!$A$2:$A$44,0)),"Pick a listed model")) | I15: =IF($D15="","",EDATE($D15,36)) | J15: =IF($I15="","",IF($I15<TODAY(),"OVERDUE",IF($I15-TODAY()<=90,"Due within 90 days","OK"))) | K15: =IF($B15="","",IFERROR(HYPERLINK(INDEX('Verified Model & Cartridge Ref'!$J$2:$J$44,MATCH($B15,'Verified Model & Cartridge Ref'!$A$2:$A$44,0))&"#buy",INDEX('Verified Model & Cartridge Ref'!$K$2:$K$44,MATCH($B15,'Verified Model & Cartridge Ref'!$A$2:$A$44,0))),"Pick a listed model")) | L15: =IF($B15="","",IFERROR(HYPERLINK(INDEX('Verified Model & Cartridge Ref'!$J$2:$J$44,MATCH($B15,'Verified Model & Cartridge Ref'!$A$2:$A$44,0)),"Open CellFit Page"),"Pick a listed model")) | M15: =IF($B15="","",IFERROR(INDEX('Verified Model & Cartridge Ref'!$I$2:$I$44,MATCH($B15,'Verified Model & Cartridge Ref'!$A$2:$A$44,0)),"Pick a listed model"))
E16: =IF($B16="","",IFERROR(INDEX('Verified Model & Cartridge Ref'!$C$2:$C$44,MATCH($B16,'Verified Model & Cartridge Ref'!$A$2:$A$44,0)),"Pick a listed model")) | F16: =IF($B16="","",IFERROR(INDEX('Verified Model & Cartridge Ref'!$D$2:$D$44,MATCH($B16,'Verified Model & Cartridge Ref'!$A$2:$A$44,0)),"Pick a listed model")) | G16: =IF($B16="","",IFERROR(INDEX('Verified Model & Cartridge Ref'!$E$2:$E$44,MATCH($B16,'Verified Model & Cartridge Ref'!$A$2:$A$44,0)),"Pick a listed model")) | H16: =IF($B16="","",IFERROR(INDEX('Verified Model & Cartridge Ref'!$F$2:$F$44,MATCH($B16,'Verified Model & Cartridge Ref'!$A$2:$A$44,0)),"Pick a listed model")) | I16: =IF($D16="","",EDATE($D16,36)) | J16: =IF($I16="","",IF($I16<TODAY(),"OVERDUE",IF($I16-TODAY()<=90,"Due within 90 days","OK"))) | K16: =IF($B16="","",IFERROR(HYPERLINK(INDEX('Verified Model & Cartridge Ref'!$J$2:$J$44,MATCH($B16,'Verified Model & Cartridge Ref'!$A$2:$A$44,0))&"#buy",INDEX('Verified Model & Cartridge Ref'!$K$2:$K$44,MATCH($B16,'Verified Model & Cartridge Ref'!$A$2:$A$44,0))),"Pick a listed model")) | L16: =IF($B16="","",IFERROR(HYPERLINK(INDEX('Verified Model & Cartridge Ref'!$J$2:$J$44,MATCH($B16,'Verified Model & Cartridge Ref'!$A$2:$A$44,0)),"Open CellFit Page"),"Pick a listed model")) | M16: =IF($B16="","",IFERROR(INDEX('Verified Model & Cartridge Ref'!$I$2:$I$44,MATCH($B16,'Verified Model & Cartridge Ref'!$A$2:$A$44,0)),"Pick a listed model"))
E17: =IF($B17="","",IFERROR(INDEX('Verified Model & Cartridge Ref'!$C$2:$C$44,MATCH($B17,'Verified Model & Cartridge Ref'!$A$2:$A$44,0)),"Pick a listed model")) | F17: =IF($B17="","",IFERROR(INDEX('Verified Model & Cartridge Ref'!$D$2:$D$44,MATCH($B17,'Verified Model & Cartridge Ref'!$A$2:$A$44,0)),"Pick a listed model")) | G17: =IF($B17="","",IFERROR(INDEX('Verified Model & Cartridge Ref'!$E$2:$E$44,MATCH($B17,'Verified Model & Cartridge Ref'!$A$2:$A$44,0)),"Pick a listed model")) | H17: =IF($B17="","",IFERROR(INDEX('Verified Model & Cartridge Ref'!$F$2:$F$44,MATCH($B17,'Verified Model & Cartridge Ref'!$A$2:$A$44,0)),"Pick a listed model")) | I17: =IF($D17="","",EDATE($D17,36)) | J17: =IF($I17="","",IF($I17<TODAY(),"OVERDUE",IF($I17-TODAY()<=90,"Due within 90 days","OK"))) | K17: =IF($B17="","",IFERROR(HYPERLINK(INDEX('Verified Model & Cartridge Ref'!$J$2:$J$44,MATCH($B17,'Verified Model & Cartridge Ref'!$A$2:$A$44,0))&"#buy",INDEX('Verified Model & Cartridge Ref'!$K$2:$K$44,MATCH($B17,'Verified Model & Cartridge Ref'!$A$2:$A$44,0))),"Pick a listed model")) | L17: =IF($B17="","",IFERROR(HYPERLINK(INDEX('Verified Model & Cartridge Ref'!$J$2:$J$44,MATCH($B17,'Verified Model & Cartridge Ref'!$A$2:$A$44,0)),"Open CellFit Page"),"Pick a listed model")) | M17: =IF($B17="","",IFERROR(INDEX('Verified Model & Cartridge Ref'!$I$2:$I$44,MATCH($B17,'Verified Model & Cartridge Ref'!$A$2:$A$44,0)),"Pick a listed model"))
... E205: =IF($B205="","",IFERROR(INDEX('Verified Model & Cartridge Ref'!$C$2:$C$44,MATCH($B205,'Verified Model & Cartridge Ref'!$A$2:$A$44,0)),"Pick a listed model")) | F205: =IF($B205="","",IFERROR(INDEX('Verified Model & Cartridge Ref'!$D$2:$D$44,MATCH($B205,'Verified Model & Cartridge Ref'!$A$2:$A$44,0)),"Pick a listed model")) | G205: =IF($B205="","",IFERROR(INDEX('Verified Model & Cartridge Ref'!$E$2:$E$44,MATCH($B205,'Verified Model & Cartridge Ref'!$A$2:$A$44,0)),"Pick a listed model")) | H205: =IF($B205="","",IFERROR(INDEX('Verified Model & Cartridge Ref'!$F$2:$F$44,MATCH($B205,'Verified Model & Cartridge Ref'!$A$2:$A$44,0)),"Pick a listed model")) | I205: =IF($D205="","",EDATE($D205,36)) | J205: =IF($I205="","",IF($I205<TODAY(),"OVERDUE",IF($I205-TODAY()<=90,"Due within 90 days","OK"))) | K205: =IF($B205="","",IFERROR(HYPERLINK(INDEX('Verified Model & Cartridge Ref'!$J$2:$J$44,MATCH($B205,'Verified Model & Cartridge Ref'!$A$2:$A$44,0))&"#buy",INDEX('Verified Model & Cartridge Ref'!$K$2:$K$44,MATCH($B205,'Verified Model & Cartridge Ref'!$A$2:$A$44,0))),"Pick a listed model")) | L205: =IF($B205="","",IFERROR(HYPERLINK(INDEX('Verified Model & Cartridge Ref'!$J$2:$J$44,MATCH($B205,'Verified Model & Cartridge Ref'!$A$2:$A$44,0)),"Open CellFit Page"),"Pick a listed model")) | M205: =IF($B205="","",IFERROR(INDEX('Verified Model & Cartridge Ref'!$I$2:$I$44,MATCH($B205,'Verified Model & Cartridge Ref'!$A$2:$A$44,0)),"Pick a listed model"))

Sheet Verified Model & Cartridge Ref
A1: UPS Model | B1: Brand | C1: OEM Cartridge SKU | D1: Bare Cell Count & Spec | E1: Max DC Amps | F1: LiFePO4 Ceiling at 12 A BMS (W) | G1: Terminal | H1: Cell Count Evidence | I1: Serial Split | J1: CellFit Page | K1: Order Link Label
A2: BR1500MS2 | B2: APC | C2: APCRBC163 | D2: 2 x 12V 9.4Ah F2 | E2: 45.7 | F2: 236 | G2: F2 | H2: inferred | I2: No serial split found | J2: https://cellfitups.com/ups/br1500ms2/ | K2: Order Bare Cells
A3: BX1500M | B3: APC | C3: APCRBC124 | D3: 2 x 12V 9Ah F2 | E3: 45.7 | F3: 236 | G3: F2 | H3: verified | I3: No serial split found | J3: https://cellfitups.com/ups/bx1500m/ | K3: Order Bare Cells
A4: BR1500G | B4: APC | C4: APCRBC124 | D4: 2 x 12V 9Ah F2 | E4: 44 | F4: 236 | G4: F2 | H4: verified | I4: No serial split found | J4: https://cellfitups.com/ups/br1500g/ | K4: Order Bare Cells
A5: BN1500M2 | B5: APC | C5: APCRBC161 | D5: 2 x 12V 9Ah F2 | E5: 45.7 | F5: 236 | G5: F2 | H5: inferred | I5: No serial split found | J5: https://cellfitups.com/ups/bn1500m2/ | K5: Order Bare Cells
A6: BE600M1 | B6: APC | C6: APCRBC154 | D6: 1 x 12V 6.5Ah +F2/-F1 | E6: 33.5 | F6: No verified LiFePO4 fit | G6: +F2/-F1 | H6: verified | I6: No serial split found | J6: https://cellfitups.com/ups/be600m1/ | K6: Order Bare Cells
A7: BE850G2 | B7: APC | C7: RBC17 | D7: 1 x 12V 9Ah F2 | E7: 45.7 | F7: 118 | G7: F2 | H7: verified | I7: No serial split found | J7: https://cellfitups.com/ups/be850g2/ | K7: Order Bare Cells
A8: SMT1500C | B8: APC | C8: RBC7 | D8: 2 x 12V 17Ah NB | E8: 50.8 | F8: No verified LiFePO4 fit | G8: NB | H8: inferred | I8: No serial split found | J8: https://cellfitups.com/ups/smt1500c/ | K8: Order Bare Cells
A9: CP1500PFCLCD | B9: CyberPower | C9: RB1290X2 | D9: 2 x 12V 9Ah F2 | E9: 50.8 | F9: 236 | G9: F2 | H9: verified | I9: Check your serial first. Serial starts CXX: RB1290X2, 2 x 12V 9 Ah, 150 x 66 x 99 mm. Serial starts CR9, CXF or CQC: RB1280X2B, a 202 x 64 x 151 mm pack. It looks like the same 151 x 65 mm cells laid on their sides, but measure yours first. | J9: https://cellfitups.com/ups/cp1500pfclcd/ | K9: Order Bare Cells
A10: CP1500AVRLCD3 | B10: CyberPower | C10: RB1290X2E | D10: 2 x 12V 9Ah F2 | E10: 45.7 | F10: 236 | G10: F2 | H10: verified | I10: No serial split found | J10: https://cellfitups.com/ups/cp1500avrlcd3/ | K10: Order Bare Cells
A11: CP1350PFCLCD | B11: CyberPower | C11: RB1270X2C | D11: 2 x 12V 7Ah F2 | E11: 44.7 | F11: 236 | G11: F2 | H11: verified | I11: Check your serial first. Serial starts CXY or CX5: RB1270X2C, 2 x 12V 7 Ah, 99 x 66 x 150 mm. Takes 9 Ah cells in the same case for +28.6% capacity. Serial starts CQB or CR8: RB1270X2A, two 90 mm cube cells in a 180 x 70 x 106 mm pack. Standard 151 mm 7 Ah or 9 Ah batteries will not fit this tray. | J11: https://cellfitups.com/ups/cp1350pfclcd/ | K11: Order Bare Cells
A12: CP1000PFCLCD | B12: CyberPower | C12: RB1290 | D12: 1 x 12V 9Ah F2 | E12: 61 | F12: 118 | G12: F2 | H12: verified | I12: No serial split found | J12: https://cellfitups.com/ups/cp1000pfclcd/ | K12: Order Bare Cells
A13: EC850LCD | B13: CyberPower | C13: RB1270B | D13: 1 x 12V 7.2Ah F2 | E13: 51.8 | F13: 118 | G13: F2 | H13: verified | I13: No serial split found | J13: https://cellfitups.com/ups/ec850lcd/ | K13: Order Bare Cells
A14: BR1000MS | B14: APC | C14: APCRBC160 | D14: 2 x 12V 7Ah F2 | E14: 30.5 | F14: 236 | G14: F2 | H14: verified | I14: No serial split found | J14: https://cellfitups.com/ups/br1000ms/ | K14: Order Bare Cells
A15: BX1000M | B15: APC | C15: APCRBC158 | D15: 1 x 12V 9Ah F2 | E15: 61 | F15: 118 | G15: F2 | H15: verified | I15: No serial split found | J15: https://cellfitups.com/ups/bx1000m/ | K15: Order Bare Cells
A16: BE425M | B16: APC | C16: None sold | D16: Not user replaceable | E16: 25.9 | F16: No verified LiFePO4 fit | G16: Unverified | H16: inferred | I16: No serial split found | J16: https://cellfitups.com/ups/be425m/ | K16: See Model Page
A17: SMT1500RM2UC | B17: APC | C17: APCRBC159 | D17: 4 x 12V 9Ah F2 | E17: 50.8 | F17: No verified LiFePO4 fit | G17: F2 | H17: verified | I17: No serial split found | J17: https://cellfitups.com/ups/smt1500rm2uc/ | K17: Order Bare Cells
A18: SMT2200C | B18: APC | C18: RBC55 | D18: 4 x 12V 17Ah NB | E18: 50.3 | F18: No verified LiFePO4 fit | G18: NB | H18: inferred | I18: No serial split found | J18: https://cellfitups.com/ups/smt2200c/ | K18: Order Bare Cells
A19: OR1500LCDRM2U | B19: CyberPower | C19: RB1270X4 | D19: 4 x 12V 7Ah F2 | E19: 45.7 | F19: No verified LiFePO4 fit | G19: F2 | H19: verified | I19: No serial split found | J19: https://cellfitups.com/ups/or1500lcdrm2u/ | K19: Order Bare Cells
A20: SMART1500LCD | B20: Tripp Lite | C20: RBC1500 | D20: 2 x 12V 7Ah F2 | E20: 45.7 | F20: 236 | G20: F2 | H20: inferred | I20: No serial split found | J20: https://cellfitups.com/ups/smart1500lcd/ | K20: Order Bare Cells
A21: 5S1500LCD | B21: Eaton | C21: Eaton 5S cell pair | D21: 2 x 12V 9Ah F2 | E21: 45.7 | F21: 236 | G21: F2 | H21: verified | I21: No serial split found | J21: https://cellfitups.com/ups/5s1500lcd/ | K21: Order Bare Cells
A22: BR1350MS | B22: APC | C22: APCRBC161 | D22: 2 x 12V 9Ah F2 | E22: 41.2 | F22: 236 | G22: F2 | H22: inferred | I22: No serial split found | J22: https://cellfitups.com/ups/br1350ms/ | K22: Order Bare Cells
A23: BR1000G | B23: APC | C23: APCRBC123 | D23: 2 x 12V 7Ah F2 | E23: 30.5 | F23: 236 | G23: F2 | H23: inferred | I23: No serial split found | J23: https://cellfitups.com/ups/br1000g/ | K23: Order Bare Cells
A24: BX1350M | B24: APC | C24: APCRBC123 | D24: 2 x 12V 7Ah F2 | E24: 41.2 | F24: 236 | G24: F2 | H24: inferred | I24: No serial split found | J24: https://cellfitups.com/ups/bx1350m/ | K24: Order Bare Cells
A25: BX850M | B25: APC | C25: RBC17 | D25: 1 x 12V 9Ah F2 | E25: 51.8 | F25: 118 | G25: F2 | H25: verified | I25: No serial split found | J25: https://cellfitups.com/ups/bx850m/ | K25: Order Bare Cells
A26: BN1100M2 | B26: APC | C26: APCRBC160 | D26: 2 x 12V 7Ah F2 | E26: 30.5 | F26: 236 | G26: F2 | H26: verified | I26: No serial split found | J26: https://cellfitups.com/ups/bn1100m2/ | K26: Order Bare Cells
A27: BE650G1 | B27: APC | C27: RBC17 | D27: 1 x 12V 9Ah F2 | E27: 39.6 | F27: 118 | G27: F2 | H27: verified | I27: No serial split found | J27: https://cellfitups.com/ups/be650g1/ | K27: Order Bare Cells
A28: CP1000AVRLCD | B28: CyberPower | C28: RB1290 | D28: 1 x 12V 9Ah F2 | E28: 61 | F28: 118 | G28: F2 | H28: verified | I28: No serial split found | J28: https://cellfitups.com/ups/cp1000avrlcd/ | K28: Order Bare Cells
A29: CP850PFCLCD | B29: CyberPower | C29: RB1290 | D29: 1 x 12V 9Ah F2 | E29: 51.8 | F29: 118 | G29: F2 | H29: verified | I29: Check your serial first. Serial starts CX2: RB1290, 1 x 12V 9 Ah. Serial starts CQD: RB1280A, 1 x 12V 9 Ah. Same cell format, different SKU. | J29: https://cellfitups.com/ups/cp850pfclcd/ | K29: Order Bare Cells
A30: LX1500GU | B30: CyberPower | C30: RB1290X2 | D30: 2 x 12V 9Ah F2 | E30: 45.7 | F30: 236 | G30: F2 | H30: verified | I30: No serial split found | J30: https://cellfitups.com/ups/lx1500gu/ | K30: Order Bare Cells
A31: CST1500SUC | B31: CyberPower | C31: RB1290X2 | D31: 2 x 12V 9Ah F2 | E31: 45.7 | F31: 236 | G31: F2 | H31: verified | I31: No serial split found | J31: https://cellfitups.com/ups/cst1500suc/ | K31: Order Bare Cells
A32: SMC1500-2UC | B32: APC | C32: APCRBC157 | D32: 4 x 12V 7.2Ah F2 | E32: 45.7 | F32: No verified LiFePO4 fit | G32: F2 | H32: verified | I32: No serial split found | J32: https://cellfitups.com/ups/smc1500-2uc/ | K32: Order Bare Cells
A33: SMT750RM2UC | B33: APC | C33: APCRBC123 | D33: 2 x 12V 7Ah F2 | E33: 25.4 | F33: 236 | G33: F2 | H33: inferred | I33: No serial split found | J33: https://cellfitups.com/ups/smt750rm2uc/ | K33: Order Bare Cells
A34: OR700LCDRM1U | B34: CyberPower | C34: RB0690X2 | D34: 2 x 6V 8Ah F2 | E34: 40.7 | F34: No verified LiFePO4 fit | G34: F2 | H34: verified | I34: No serial split found | J34: https://cellfitups.com/ups/or700lcdrm1u/ | K34: Order Bare Cells
A35: CP1500PFCRM2U | B35: CyberPower | C35: RB1290X2D | D35: 2 x 12V 9Ah F2 | E35: 50.8 | F35: 236 | G35: F2 | H35: verified | I35: No serial split found | J35: https://cellfitups.com/ups/cp1500pfcrm2u/ | K35: Order Bare Cells
A36: 5P1500R | B36: Eaton | C36: EBP-0807 | D36: 6 x 6V 9Ah F2 | E36: 37.3 | F36: No verified LiFePO4 fit | G36: F2 | H36: verified | I36: No serial split found | J36: https://cellfitups.com/ups/5p1500r/ | K36: Order Bare Cells
A37: PR1500LCDRTXL2U | B37: CyberPower | C37: RB1290X4F | D37: 4 x 12V 9Ah F2 | E37: 38.1 | F37: No verified LiFePO4 fit | G37: F2 | H37: verified | I37: No serial split found | J37: https://cellfitups.com/ups/pr1500lcdrtxl2u/ | K37: Order Bare Cells
A38: PR2200LCDRT2U | B38: CyberPower | C38: RB1290X4F | D38: 4 x 12V 9Ah F2 | E38: 50.3 | F38: No verified LiFePO4 fit | G38: F2 | H38: verified | I38: No serial split found | J38: https://cellfitups.com/ups/pr2200lcdrt2u/ | K38: Order Bare Cells
A39: PR1000LCDRT2U | B39: CyberPower | C39: RB1270X4F | D39: 4 x 12V 7Ah F2 | E39: 22.9 | F39: No verified LiFePO4 fit | G39: F2 | H39: verified | I39: No serial split found | J39: https://cellfitups.com/ups/pr1000lcdrt2u/ | K39: Order Bare Cells
A40: PR1500LCDRT2U | B40: CyberPower | C40: RB1270X4F | D40: 4 x 12V 7Ah F2 | E40: 34.3 | F40: No verified LiFePO4 fit | G40: F2 | H40: verified | I40: No serial split found | J40: https://cellfitups.com/ups/pr1500lcdrt2u/ | K40: Order Bare Cells
...
